Package: survcomp Version: 1.57.0 Command: /Library/Frameworks/R.framework/Resources/bin/R CMD check --install=check:survcomp.install-out.txt --library=/Library/Frameworks/R.framework/Resources/library --no-vignettes --timings survcomp_1.57.0.tar.gz StartedAt: 2025-02-12 23:44:25 -0500 (Wed, 12 Feb 2025) EndedAt: 2025-02-12 23:45:35 -0500 (Wed, 12 Feb 2025) EllapsedTime: 69.8 seconds RetCode: 0 Status: WARNINGS CheckDir: survcomp.Rcheck Warnings: 1