Package: survcomp Version: 1.57.0 Command: /home/biocbuild/bbs-3.21-bioc/R/bin/R CMD build --keep-empty-dirs --no-resave-data survcomp StartedAt: 2025-02-12 19:27:15 -0500 (Wed, 12 Feb 2025) EndedAt: 2025-02-12 19:27:33 -0500 (Wed, 12 Feb 2025) EllapsedTime: 18.0 seconds RetCode: 0 Status: OK PackageFile: survcomp_1.57.0.tar.gz PackageFileSize: 638.7 KiB