Package: survcomp Version: 1.57.0 Command: /home/biocbuild/bbs-3.21-bioc/R/bin/R CMD check --install=check:survcomp.install-out.txt --library=/home/biocbuild/bbs-3.21-bioc/R/site-library --timings survcomp_1.57.0.tar.gz StartedAt: 2025-02-10 03:12:15 -0500 (Mon, 10 Feb 2025) EndedAt: 2025-02-10 03:13:15 -0500 (Mon, 10 Feb 2025) EllapsedTime: 60.1 seconds RetCode: 0 Status: OK CheckDir: survcomp.Rcheck Warnings: 0