Package: survcomp Version: 1.57.0 Command: rm -rf survcomp.buildbin-libdir && mkdir survcomp.buildbin-libdir && E:\biocbuild\bbs-3.21-bioc\R\bin\R.exe CMD INSTALL --build --library=survcomp.buildbin-libdir survcomp_1.57.0.tar.gz StartedAt: 2025-02-13 09:00:18 -0500 (Thu, 13 Feb 2025) EndedAt: 2025-02-13 09:00:45 -0500 (Thu, 13 Feb 2025) EllapsedTime: 26.5 seconds RetCode: 0 Status: OK PackageFile: survcomp_1.57.0.zip PackageFileSize: 855.7 KiB