Package: sva Version: 3.55.0 Command: /Library/Frameworks/R.framework/Resources/bin/R CMD check --install=check:sva.install-out.txt --library=/Library/Frameworks/R.framework/Resources/library --no-vignettes --timings sva_3.55.0.tar.gz StartedAt: 2025-02-09 21:39:50 -0500 (Sun, 09 Feb 2025) EndedAt: 2025-02-09 21:41:05 -0500 (Sun, 09 Feb 2025) EllapsedTime: 75.9 seconds RetCode: 0 Status: OK CheckDir: sva.Rcheck Warnings: 0