Package: sva Version: 3.55.0 Command: /home/biocbuild/R/R/bin/R CMD check --install=check:sva.install-out.txt --library=/home/biocbuild/R/R/site-library --no-vignettes --timings sva_3.55.0.tar.gz StartedAt: 2025-01-28 15:55:46 -0000 (Tue, 28 Jan 2025) EndedAt: 2025-01-28 16:00:23 -0000 (Tue, 28 Jan 2025) EllapsedTime: 277.6 seconds RetCode: 0 Status: OK CheckDir: sva.Rcheck Warnings: 0