Package: sva Version: 3.55.0 Command: /home/biocbuild/bbs-3.21-bioc/R/bin/R CMD build --keep-empty-dirs --no-resave-data sva StartedAt: 2025-02-09 19:31:39 -0500 (Sun, 09 Feb 2025) EndedAt: 2025-02-09 19:32:35 -0500 (Sun, 09 Feb 2025) EllapsedTime: 56.1 seconds RetCode: 0 Status: OK PackageFile: sva_3.55.0.tar.gz PackageFileSize: 442.6 KiB