Package: sva Version: 3.55.0 Command: rm -rf sva.buildbin-libdir && mkdir sva.buildbin-libdir && E:\biocbuild\bbs-3.21-bioc\R\bin\R.exe CMD INSTALL --build --library=sva.buildbin-libdir sva_3.55.0.tar.gz StartedAt: 2025-02-13 09:00:22 -0500 (Thu, 13 Feb 2025) EndedAt: 2025-02-13 09:00:48 -0500 (Thu, 13 Feb 2025) EllapsedTime: 26.0 seconds RetCode: 0 Status: OK PackageFile: sva_3.55.0.zip PackageFileSize: 572.2 KiB