Package: sva Version: 3.55.0 Command: chmod a+r sva -R && E:\biocbuild\bbs-3.21-bioc\R\bin\R.exe CMD build --keep-empty-dirs --no-resave-data sva StartedAt: 2025-02-09 21:59:49 -0500 (Sun, 09 Feb 2025) EndedAt: 2025-02-09 22:01:04 -0500 (Sun, 09 Feb 2025) EllapsedTime: 74.0 seconds RetCode: 0 Status: OK PackageFile: sva_3.55.0.tar.gz PackageFileSize: 444 KiB