Package: svaNUMT Version: 1.13.0 Maintainer: Ruining Dong MaintainerEmail: lnyidrn at gmail.com git_url: https://git.bioconductor.org/packages/svaNUMT git_branch: devel git_last_commit: 1a144f0 git_last_commit_date: 2024-10-29 11:01:52 -0500 (Tue, 29 Oct 2024)