Package: svaNUMT Version: 1.13.0 Command: /Library/Frameworks/R.framework/Resources/bin/R CMD build --keep-empty-dirs --no-resave-data svaNUMT StartedAt: 2025-02-09 17:45:55 -0500 (Sun, 09 Feb 2025) EndedAt: 2025-02-09 17:46:23 -0500 (Sun, 09 Feb 2025) EllapsedTime: 28.3 seconds RetCode: 0 Status: OK PackageFile: svaNUMT_1.13.0.tar.gz PackageFileSize: 818.4 KiB