Package: svaNUMT Version: 1.13.0 Command: /Library/Frameworks/R.framework/Resources/bin/R CMD check --install=check:svaNUMT.install-out.txt --library=/Library/Frameworks/R.framework/Resources/library --no-vignettes --timings svaNUMT_1.13.0.tar.gz StartedAt: 2025-02-09 21:40:01 -0500 (Sun, 09 Feb 2025) EndedAt: 2025-02-09 21:41:55 -0500 (Sun, 09 Feb 2025) EllapsedTime: 114.4 seconds RetCode: 0 Status: OK CheckDir: svaNUMT.Rcheck Warnings: 0