Package: svaNUMT Version: 1.13.0 Command: /Library/Frameworks/R.framework/Resources/bin/R CMD INSTALL svaNUMT StartedAt: 2025-02-04 15:11:31 -0500 (Tue, 04 Feb 2025) EndedAt: 2025-02-04 15:11:47 -0500 (Tue, 04 Feb 2025) EllapsedTime: 15.7 seconds RetCode: 0 Status: OK