Package: svaNUMT Version: 1.13.0 Command: /home/biocbuild/R/R/bin/R CMD build --keep-empty-dirs --no-resave-data svaNUMT StartedAt: 2025-01-28 02:49:07 -0000 (Tue, 28 Jan 2025) EndedAt: 2025-01-28 02:50:47 -0000 (Tue, 28 Jan 2025) EllapsedTime: 100.0 seconds RetCode: 0 Status: OK PackageFile: svaNUMT_1.13.0.tar.gz PackageFileSize: 798.1 KiB