Package: svaNUMT Version: 1.13.0 Command: /Library/Frameworks/R.framework/Resources/bin/R CMD check --install=check:svaNUMT.install-out.txt --library=/Library/Frameworks/R.framework/Resources/library --no-vignettes --timings svaNUMT_1.13.0.tar.gz StartedAt: 2025-02-03 23:42:28 -0500 (Mon, 03 Feb 2025) EndedAt: 2025-02-03 23:47:52 -0500 (Mon, 03 Feb 2025) EllapsedTime: 323.8 seconds RetCode: 0 Status: OK CheckDir: svaNUMT.Rcheck Warnings: 0