Package: svaNUMT Version: 1.13.0 Command: /Library/Frameworks/R.framework/Resources/bin/R CMD INSTALL svaNUMT StartedAt: 2025-02-09 15:22:22 -0500 (Sun, 09 Feb 2025) EndedAt: 2025-02-09 15:23:14 -0500 (Sun, 09 Feb 2025) EllapsedTime: 52.2 seconds RetCode: 0 Status: OK