Package: svaNUMT Version: 1.13.0 Command: /home/biocbuild/bbs-3.21-bioc/R/bin/R CMD INSTALL svaNUMT StartedAt: 2025-02-09 15:50:12 -0500 (Sun, 09 Feb 2025) EndedAt: 2025-02-09 15:50:51 -0500 (Sun, 09 Feb 2025) EllapsedTime: 38.9 seconds RetCode: 0 Status: OK