Package: svaNUMT Version: 1.13.0 Command: chmod a+r svaNUMT -R && E:\biocbuild\bbs-3.21-bioc\R\bin\R.exe CMD build --keep-empty-dirs --no-resave-data svaNUMT StartedAt: 2025-02-04 22:02:15 -0500 (Tue, 04 Feb 2025) EndedAt: 2025-02-04 22:03:44 -0500 (Tue, 04 Feb 2025) EllapsedTime: 89.1 seconds RetCode: 0 Status: OK PackageFile: svaNUMT_1.13.0.tar.gz PackageFileSize: 700.7 KiB