Package: svaNUMT Version: 1.13.0 Command: E:\biocbuild\bbs-3.21-bioc\R\bin\R.exe CMD check --no-multiarch --install=check:svaNUMT.install-out.txt --library=E:\biocbuild\bbs-3.21-bioc\R\library --no-vignettes --timings svaNUMT_1.13.0.tar.gz StartedAt: 2025-02-05 06:25:05 -0500 (Wed, 05 Feb 2025) EndedAt: 2025-02-05 06:30:55 -0500 (Wed, 05 Feb 2025) EllapsedTime: 350.6 seconds RetCode: 0 Status: OK CheckDir: svaNUMT.Rcheck Warnings: 0