Package: svaRetro Version: 1.13.0 Command: /Library/Frameworks/R.framework/Resources/bin/R CMD build --keep-empty-dirs --no-resave-data svaRetro StartedAt: 2025-02-09 17:45:56 -0500 (Sun, 09 Feb 2025) EndedAt: 2025-02-09 17:46:26 -0500 (Sun, 09 Feb 2025) EllapsedTime: 30.3 seconds RetCode: 0 Status: OK PackageFile: svaRetro_1.13.0.tar.gz PackageFileSize: 1.533 MiB