Package: svaRetro Version: 1.13.0 Command: /Library/Frameworks/R.framework/Resources/bin/R CMD INSTALL svaRetro StartedAt: 2025-02-09 15:11:29 -0500 (Sun, 09 Feb 2025) EndedAt: 2025-02-09 15:11:45 -0500 (Sun, 09 Feb 2025) EllapsedTime: 16.0 seconds RetCode: 0 Status: OK