Package: svaRetro Version: 1.13.0 Command: /home/biocbuild/R/R/bin/R CMD build --keep-empty-dirs --no-resave-data svaRetro StartedAt: 2025-01-28 02:49:18 -0000 (Tue, 28 Jan 2025) EndedAt: 2025-01-28 02:51:05 -0000 (Tue, 28 Jan 2025) EllapsedTime: 107.1 seconds RetCode: 0 Status: OK PackageFile: svaRetro_1.13.0.tar.gz PackageFileSize: 1.552 MiB