Package: svaRetro Version: 1.13.0 Command: rm -rf svaRetro.buildbin-libdir && mkdir svaRetro.buildbin-libdir && /Users/biocbuild/BBS/utils/build-universal.sh svaRetro_1.13.0.tar.gz /Library/Frameworks/R.framework/Resources/bin/R svaRetro.buildbin-libdir StartedAt: 2025-02-10 01:19:35 -0500 (Mon, 10 Feb 2025) EndedAt: 2025-02-10 01:20:33 -0500 (Mon, 10 Feb 2025) EllapsedTime: 57.8 seconds RetCode: 0 Status: OK PackageFile: svaRetro_1.13.0.tgz PackageFileSize: 1.53 MiB