Package: svaRetro Version: 1.13.0 Command: /Library/Frameworks/R.framework/Resources/bin/R CMD INSTALL svaRetro StartedAt: 2025-02-09 15:22:24 -0500 (Sun, 09 Feb 2025) EndedAt: 2025-02-09 15:23:24 -0500 (Sun, 09 Feb 2025) EllapsedTime: 60.4 seconds RetCode: 0 Status: OK