Package: svaRetro Version: 1.13.0 Command: rm -rf svaRetro.buildbin-libdir && mkdir svaRetro.buildbin-libdir && E:\biocbuild\bbs-3.21-bioc\R\bin\R.exe CMD INSTALL --build --library=svaRetro.buildbin-libdir svaRetro_1.13.0.tar.gz StartedAt: 2025-02-13 09:00:29 -0500 (Thu, 13 Feb 2025) EndedAt: 2025-02-13 09:01:12 -0500 (Thu, 13 Feb 2025) EllapsedTime: 43.4 seconds RetCode: 0 Status: OK PackageFile: svaRetro_1.13.0.zip PackageFileSize: 1.468 MiB