Package: svaRetro Version: 1.13.0 Command: E:\biocbuild\bbs-3.21-bioc\R\bin\R.exe CMD INSTALL svaRetro StartedAt: 2025-02-09 16:45:13 -0500 (Sun, 09 Feb 2025) EndedAt: 2025-02-09 16:46:00 -0500 (Sun, 09 Feb 2025) EllapsedTime: 47.2 seconds RetCode: 0 Status: OK