Package: swfdr Version: 1.33.0 Command: /Library/Frameworks/R.framework/Resources/bin/R CMD INSTALL swfdr StartedAt: 2025-02-09 15:02:03 -0500 (Sun, 09 Feb 2025) EndedAt: 2025-02-09 15:02:09 -0500 (Sun, 09 Feb 2025) EllapsedTime: 5.8 seconds RetCode: 0 Status: OK