Package: swfdr Version: 1.33.0 Command: /home/biocbuild/R/R/bin/R CMD build --keep-empty-dirs --no-resave-data swfdr StartedAt: 2025-01-28 02:49:57 -0000 (Tue, 28 Jan 2025) EndedAt: 2025-01-28 02:51:11 -0000 (Tue, 28 Jan 2025) EllapsedTime: 74.0 seconds RetCode: 0 Status: OK PackageFile: swfdr_1.33.0.tar.gz PackageFileSize: 1.185 MiB