Package: swfdr Version: 1.33.0 Command: /Library/Frameworks/R.framework/Resources/bin/R CMD check --install=check:swfdr.install-out.txt --library=/Library/Frameworks/R.framework/Resources/library --no-vignettes --timings swfdr_1.33.0.tar.gz StartedAt: 2025-02-10 00:00:57 -0500 (Mon, 10 Feb 2025) EndedAt: 2025-02-10 00:01:33 -0500 (Mon, 10 Feb 2025) EllapsedTime: 35.3 seconds RetCode: 0 Status: WARNINGS CheckDir: swfdr.Rcheck Warnings: 1