Package: swfdr Version: 1.33.0 Command: /home/biocbuild/bbs-3.21-bioc/R/bin/R CMD check --install=check:swfdr.install-out.txt --library=/home/biocbuild/bbs-3.21-bioc/R/site-library --timings swfdr_1.33.0.tar.gz StartedAt: 2025-02-05 03:20:42 -0500 (Wed, 05 Feb 2025) EndedAt: 2025-02-05 03:21:55 -0500 (Wed, 05 Feb 2025) EllapsedTime: 73.1 seconds RetCode: 0 Status: WARNINGS CheckDir: swfdr.Rcheck Warnings: 1