Package: swfdr Version: 1.33.0 Command: E:\biocbuild\bbs-3.21-bioc\R\bin\R.exe CMD INSTALL swfdr StartedAt: 2025-02-09 15:21:35 -0500 (Sun, 09 Feb 2025) EndedAt: 2025-02-09 15:21:43 -0500 (Sun, 09 Feb 2025) EllapsedTime: 8.4 seconds RetCode: 0 Status: OK