Package: switchde Version: 1.33.0 Command: rm -rf switchde.buildbin-libdir && mkdir switchde.buildbin-libdir && /Users/biocbuild/BBS/utils/build-universal.sh switchde_1.33.0.tar.gz /Library/Frameworks/R.framework/Resources/bin/R switchde.buildbin-libdir StartedAt: 2025-02-10 01:19:41 -0500 (Mon, 10 Feb 2025) EndedAt: 2025-02-10 01:20:18 -0500 (Mon, 10 Feb 2025) EllapsedTime: 36.8 seconds RetCode: 0 Status: OK PackageFile: switchde_1.33.0.tgz PackageFileSize: 1.072 MiB