Package: switchde Version: 1.33.0 Command: /Library/Frameworks/R.framework/Resources/bin/R CMD INSTALL switchde StartedAt: 2025-02-03 15:16:42 -0500 (Mon, 03 Feb 2025) EndedAt: 2025-02-03 15:17:14 -0500 (Mon, 03 Feb 2025) EllapsedTime: 31.8 seconds RetCode: 0 Status: OK