Package: switchde Version: 1.33.0 Command: E:\biocbuild\bbs-3.21-bioc\R\bin\R.exe CMD INSTALL switchde StartedAt: 2025-02-09 16:18:09 -0500 (Sun, 09 Feb 2025) EndedAt: 2025-02-09 16:18:41 -0500 (Sun, 09 Feb 2025) EllapsedTime: 31.5 seconds RetCode: 0 Status: OK