Package: synapsis Version: 1.13.0 Command: rm -rf synapsis.buildbin-libdir && mkdir synapsis.buildbin-libdir && /Users/biocbuild/BBS/utils/build-universal.sh synapsis_1.13.0.tar.gz /Library/Frameworks/R.framework/Resources/bin/R synapsis.buildbin-libdir StartedAt: 2025-02-09 22:32:58 -0500 (Sun, 09 Feb 2025) EndedAt: 2025-02-09 22:33:01 -0500 (Sun, 09 Feb 2025) EllapsedTime: 3.1 seconds RetCode: 0 Status: OK PackageFile: synapsis_1.13.0.tgz PackageFileSize: 3.631 MiB