Package: synapsis Version: 1.13.0 Command: /Library/Frameworks/R.framework/Resources/bin/R CMD INSTALL synapsis StartedAt: 2025-02-04 15:15:06 -0500 (Tue, 04 Feb 2025) EndedAt: 2025-02-04 15:15:08 -0500 (Tue, 04 Feb 2025) EllapsedTime: 2.1 seconds RetCode: 0 Status: OK