Package: synapsis Version: 1.13.0 Command: /home/biocbuild/R/R/bin/R CMD build --keep-empty-dirs --no-resave-data synapsis StartedAt: 2025-01-28 02:50:19 -0000 (Tue, 28 Jan 2025) EndedAt: 2025-01-28 02:51:11 -0000 (Tue, 28 Jan 2025) EllapsedTime: 52.0 seconds RetCode: 0 Status: OK PackageFile: synapsis_1.13.0.tar.gz PackageFileSize: 3.308 MiB