Package: synapsis Version: 1.13.0 Command: /Library/Frameworks/R.framework/Resources/bin/R CMD check --install=check:synapsis.install-out.txt --library=/Library/Frameworks/R.framework/Resources/library --no-vignettes --timings synapsis_1.13.0.tar.gz StartedAt: 2025-02-10 00:01:33 -0500 (Mon, 10 Feb 2025) EndedAt: 2025-02-10 00:02:23 -0500 (Mon, 10 Feb 2025) EllapsedTime: 50.5 seconds RetCode: 0 Status: OK CheckDir: synapsis.Rcheck Warnings: 0