Package: synapsis Version: 1.13.0 Command: /Library/Frameworks/R.framework/Resources/bin/R CMD INSTALL synapsis StartedAt: 2025-02-09 15:24:26 -0500 (Sun, 09 Feb 2025) EndedAt: 2025-02-09 15:24:33 -0500 (Sun, 09 Feb 2025) EllapsedTime: 6.9 seconds RetCode: 0 Status: OK