Package: synapsis Version: 1.13.0 Command: /home/biocbuild/bbs-3.21-bioc/R/bin/R CMD INSTALL synapsis StartedAt: 2025-02-12 15:13:44 -0500 (Wed, 12 Feb 2025) EndedAt: 2025-02-12 15:13:48 -0500 (Wed, 12 Feb 2025) EllapsedTime: 3.9 seconds RetCode: 0 Status: OK