Package: syntenet Version: 1.9.1 Command: /Library/Frameworks/R.framework/Resources/bin/R CMD build --keep-empty-dirs --no-resave-data syntenet StartedAt: 2025-02-12 18:32:44 -0500 (Wed, 12 Feb 2025) EndedAt: 2025-02-12 18:34:29 -0500 (Wed, 12 Feb 2025) EllapsedTime: 105.0 seconds RetCode: 0 Status: OK PackageFile: syntenet_1.9.1.tar.gz PackageFileSize: 2.818 MiB