Package: syntenet Version: 1.9.1 Command: /Library/Frameworks/R.framework/Resources/bin/R CMD INSTALL syntenet StartedAt: 2025-02-09 15:28:15 -0500 (Sun, 09 Feb 2025) EndedAt: 2025-02-09 15:29:31 -0500 (Sun, 09 Feb 2025) EllapsedTime: 76.0 seconds RetCode: 0 Status: OK