Package: syntenet Version: 1.9.1 Command: /home/biocbuild/bbs-3.21-bioc/R/bin/R CMD build --keep-empty-dirs --no-resave-data syntenet StartedAt: 2025-02-09 19:32:49 -0500 (Sun, 09 Feb 2025) EndedAt: 2025-02-09 19:34:26 -0500 (Sun, 09 Feb 2025) EllapsedTime: 97.1 seconds RetCode: 0 Status: OK PackageFile: syntenet_1.9.1.tar.gz PackageFileSize: 2.746 MiB