Package: syntenet Version: 1.9.1 Command: /home/biocbuild/bbs-3.21-bioc/R/bin/R CMD INSTALL syntenet StartedAt: 2025-02-09 15:26:38 -0500 (Sun, 09 Feb 2025) EndedAt: 2025-02-09 15:27:39 -0500 (Sun, 09 Feb 2025) EllapsedTime: 60.8 seconds RetCode: 0 Status: OK