Package: syntenet Version: 1.9.1 Command: chmod a+r syntenet -R && E:\biocbuild\bbs-3.21-bioc\R\bin\R.exe CMD build --keep-empty-dirs --no-resave-data syntenet StartedAt: 2025-02-09 22:01:11 -0500 (Sun, 09 Feb 2025) EndedAt: 2025-02-09 22:03:52 -0500 (Sun, 09 Feb 2025) EllapsedTime: 160.9 seconds RetCode: 0 Status: OK PackageFile: syntenet_1.9.1.tar.gz PackageFileSize: 2.113 MiB