Package: syntenet Version: 1.9.1 Command: E:\biocbuild\bbs-3.21-bioc\R\bin\R.exe CMD INSTALL syntenet StartedAt: 2025-02-12 16:12:50 -0500 (Wed, 12 Feb 2025) EndedAt: 2025-02-12 16:14:04 -0500 (Wed, 12 Feb 2025) EllapsedTime: 73.5 seconds RetCode: 0 Status: OK