Package: systemPipeShiny Version: 1.17.0 Command: /Library/Frameworks/R.framework/Resources/bin/R CMD build --keep-empty-dirs --no-resave-data systemPipeShiny StartedAt: 2025-02-09 17:46:51 -0500 (Sun, 09 Feb 2025) EndedAt: 2025-02-09 17:47:01 -0500 (Sun, 09 Feb 2025) EllapsedTime: 10.1 seconds RetCode: 0 Status: OK PackageFile: systemPipeShiny_1.17.0.tar.gz PackageFileSize: 4.308 MiB