Package: systemPipeShiny Version: 1.17.0 Command: /Library/Frameworks/R.framework/Resources/bin/R CMD check --install=check:systemPipeShiny.install-out.txt --library=/Library/Frameworks/R.framework/Resources/library --no-vignettes --timings systemPipeShiny_1.17.0.tar.gz StartedAt: 2025-02-10 00:02:41 -0500 (Mon, 10 Feb 2025) EndedAt: 2025-02-10 00:04:36 -0500 (Mon, 10 Feb 2025) EllapsedTime: 115.1 seconds RetCode: 0 Status: OK CheckDir: systemPipeShiny.Rcheck Warnings: 0