Package: systemPipeShiny Version: 1.17.0 Command: /home/biocbuild/bbs-3.21-bioc/R/bin/R CMD build --keep-empty-dirs --no-resave-data systemPipeShiny StartedAt: 2025-02-09 19:32:58 -0500 (Sun, 09 Feb 2025) EndedAt: 2025-02-09 19:33:21 -0500 (Sun, 09 Feb 2025) EllapsedTime: 23.0 seconds RetCode: 0 Status: OK PackageFile: systemPipeShiny_1.17.0.tar.gz PackageFileSize: 4.307 MiB