Package: systemPipeShiny Version: 1.17.0 Command: E:\biocbuild\bbs-3.21-bioc\R\bin\R.exe CMD check --no-multiarch --install=check:systemPipeShiny.install-out.txt --library=E:\biocbuild\bbs-3.21-bioc\R\library --no-vignettes --timings systemPipeShiny_1.17.0.tar.gz StartedAt: 2025-02-10 06:04:05 -0500 (Mon, 10 Feb 2025) EndedAt: 2025-02-10 06:06:20 -0500 (Mon, 10 Feb 2025) EllapsedTime: 134.9 seconds RetCode: 0 Status: OK CheckDir: systemPipeShiny.Rcheck Warnings: 0